BEGIN:VCALENDAR
VERSION:2.0
PRODID:-//Pro Loco Apparizione - ECPv6.3.2//NONSGML v1.0//EN
CALSCALE:GREGORIAN
METHOD:PUBLISH
X-ORIGINAL-URL:https://prolocoapparizione.it
X-WR-CALDESC:Eventi per Pro Loco Apparizione
REFRESH-INTERVAL;VALUE=DURATION:PT1H
X-Robots-Tag:noindex
X-PUBLISHED-TTL:PT1H
BEGIN:VTIMEZONE
TZID:Europe/Paris
BEGIN:DAYLIGHT
TZOFFSETFROM:+0100
TZOFFSETTO:+0200
TZNAME:CEST
DTSTART:20200329T010000
END:DAYLIGHT
BEGIN:STANDARD
TZOFFSETFROM:+0200
TZOFFSETTO:+0100
TZNAME:CET
DTSTART:20201025T010000
END:STANDARD
END:VTIMEZONE
BEGIN:VEVENT
DTSTART;TZID=Europe/Paris:20201018T100000
DTEND;TZID=Europe/Paris:20201018T210000
DTSTAMP:20260421T183423
CREATED:20200929T154207Z
LAST-MODIFIED:20200930T185254Z
UID:16348-1603015200-1603054800@prolocoapparizione.it
SUMMARY:Festa d’Autunno
DESCRIPTION:La Pro Loco di Apparizione vi aspetta alla FESTA D’AUTUNNO e in collaborazione con la Società di Mutuo Soccorso organizza la CASTAGNATA. \nDalle 10:00 alle 19:00 potrete acquistare Prodotti Alimentari Tipici al Mercatino in Piazza \nDalle 12:00 alle 21:00 potrete degustare cibo\, bevande e dolci dai Food Truck presenti in Piazza accompagnati dalla Birra Maccaia \nDalle 14:00 alle 19:00 i nostri bambini potranno scivolare sui gonfiabili offerti dalla Proloco \nDalle 15:00 Castagnata e Vin Brulè \n  \nScaricate la locandina allegata \nVi aspettiamo numerosi!
URL:https://prolocoapparizione.it/event/festa-di-autunno/
LOCATION:Sede della Pro Loco Apparizione\, Piazza Don Attilio Canepa 2r\, Genova\, 16133\, Italia
CATEGORIES:Intrattenimento
ORGANIZER;CN="Pro Loco Apparizione":MAILTO:info@prolocoapparizione.it
END:VEVENT
END:VCALENDAR