BEGIN:VCALENDAR
VERSION:2.0
PRODID:-//Pro Loco Apparizione - ECPv6.3.2//NONSGML v1.0//EN
CALSCALE:GREGORIAN
METHOD:PUBLISH
X-WR-CALNAME:Pro Loco Apparizione
X-ORIGINAL-URL:https://prolocoapparizione.it
X-WR-CALDESC:Eventi per Pro Loco Apparizione
REFRESH-INTERVAL;VALUE=DURATION:PT1H
X-Robots-Tag:noindex
X-PUBLISHED-TTL:PT1H
BEGIN:VTIMEZONE
TZID:UTC
BEGIN:STANDARD
TZOFFSETFROM:+0000
TZOFFSETTO:+0000
TZNAME:UTC
DTSTART:20200101T000000
END:STANDARD
END:VTIMEZONE
BEGIN:VEVENT
DTSTART;TZID=UTC:20210228T093000
DTEND;TZID=UTC:20210228T170000
DTSTAMP:20260421T180049
CREATED:20210207T164755Z
LAST-MODIFIED:20210207T164755Z
UID:16591-1614504600-1614531600@prolocoapparizione.it
SUMMARY:3° appuntamento Appatrekking
DESCRIPTION:Seguici in questo viaggio nel tempo per visitare i resti dei vecchi insediamenti utilizzati durante la transumanza. \nPrenotazione obbligatoria via  whatsapp al numero 3913262123 o via mail scrivendo a sport@prolocoapparizione.it  \nPer questioni assicurative l’escursione e’ riservata ai soci della Proloco di Apparizione e ai loro familiari. Per iscrizioni online cliccare su questo link. \n 
URL:https://prolocoapparizione.it/event/3-appuntamento-appatrekking-2/
LOCATION:Apparizione\, Piazza Don Attilio Canepa\, Genova\, Genova\, 16133\, Italia
CATEGORIES:Escursioni
ATTACH;FMTTYPE=image/jpeg:https://prolocoapparizione.it/wp-content/uploads/2021/02/5619C329-488E-4E13-A0B6-563826FC1C99.jpeg
ORGANIZER;CN="Pro Loco Apparizione":MAILTO:info@prolocoapparizione.it
END:VEVENT
BEGIN:VEVENT
DTSTART;TZID=UTC:20210227T053000
DTEND;TZID=UTC:20210227T100000
DTSTAMP:20260421T180049
CREATED:20210207T153749Z
LAST-MODIFIED:20210210T144155Z
UID:16587-1614403800-1614420000@prolocoapparizione.it
SUMMARY:2° camminata Appatrekking
DESCRIPTION:Visto l’ incredibile successo del primo evento\, per soddisfare le vostre numerose richieste\, replichiamo l’ascesa al Monte Fasce per assistere all’alba. Prenotazione obbligatoria via whatsapp al numero 3913262123 o via mail scrivendo a sport@prolocoapparizione.it  \nPer questioni assicurative l’escursione e’ riservata ai soci della Proloco di Apparizione e ai loro familiari. Per iscrizioni online cliccare su questo link. \n \n 
URL:https://prolocoapparizione.it/event/2-camminata-appatrekking/
LOCATION:Apparizione\, Piazza Don Attilio Canepa\, Genova\, Genova\, 16133\, Italia
CATEGORIES:Escursioni
ATTACH;FMTTYPE=image/jpeg:https://prolocoapparizione.it/wp-content/uploads/2021/02/Locandina-ALBA-AL-FASCEBIS-scaled.jpg
ORGANIZER;CN="Pro Loco Apparizione":MAILTO:info@prolocoapparizione.it
END:VEVENT
BEGIN:VEVENT
DTSTART;TZID=UTC:20210130T060000
DTEND;TZID=UTC:20210130T103000
DTSTAMP:20260421T180049
CREATED:20210119T210125Z
LAST-MODIFIED:20210120T153538Z
UID:16541-1611986400-1612002600@prolocoapparizione.it
SUMMARY:1ª escursione Appatrekking 2021
DESCRIPTION:Poco prima del sorgere del sole\, sperando di essere accompagnati da una splendida luna (saremo in pieno plenilunio) saliremo alla cima del monte Fasce lungo la  cresta del monte Moro per godere dello spettacolo di Genova che si illumina sotto i primi raggi del sole. \nIn questa avventura saremo accompagnati da Silvia Venzano\, trailrunner ed amante delle nostre montagne: ci ritroveremo per le 6 presso il piazzale di Monte Moro (402 m. s.l.m.) raggiungeremo la Spalletta de Rocchi\, in prossimità del quale sorge un bivacco\, quindi proseguiremo lungo un sentiero ripido ed impegnativo che ci porterà finalmente in vetta dove ci scalderemo con un tè caldo\, offerto dagli accompagnatori\, sperando in un cielo limpido per poter così  godere appieno della splendida vista. \nIl monte Fasce\, con i suoi 834 metri di altitudine\, è una tra le maggiori alture della città di Genova: la sua vetta si trova a soli 3 km in linea d’aria dal porticciolo di Nervi. Dalla sua cima si gode di un’ottima vista su Genova\, Portofino\, la Riviera e le montagne dell’entroterra. In condizioni particolarmente favorevoli si possono avvistare anche la Corsica\, il Monviso e le Apuane. \nIl ritorno è previsto lungo un sentiero scosceso e mal segnato che rapidamente ci porterà al piazzale del Liberale e da li quindi in piazza A. Canepa presso la sede della Pro Loco\, dove ci verrà offerta la colazione.
URL:https://prolocoapparizione.it/event/1a-escursione-appatrekking-2021/
LOCATION:Apparizione\, Piazza Don Attilio Canepa\, Genova\, Genova\, 16133\, Italia
CATEGORIES:Escursioni
ATTACH;FMTTYPE=image/jpeg:https://prolocoapparizione.it/wp-content/uploads/2021/01/C0364E0A-9F0D-4070-A0E0-4A50B743944B.jpeg
ORGANIZER;CN="Pro Loco Apparizione":MAILTO:info@prolocoapparizione.it
END:VEVENT
BEGIN:VEVENT
DTSTART;TZID=UTC:20201206T093000
DTEND;TZID=UTC:20201206T170000
DTSTAMP:20260421T180049
CREATED:20201128T194142Z
LAST-MODIFIED:20201128T194142Z
UID:16476-1607247000-1607274000@prolocoapparizione.it
SUMMARY:3° appuntamento AppaTrekking
DESCRIPTION:Vi aspettiamo Domenica 6 Dicembre per una camminata in buona compagnia\, alla scoperta della macchia mediterranea della nostra zona\, in compagnia dell’agronoma Claudia Turcato. \nRaccomandiamo abbigliamento adeguato e soprattutto scarponcini da trekking.
URL:https://prolocoapparizione.it/event/3-appuntamento-appatrekking/
LOCATION:Sede della Pro Loco Apparizione\, Piazza Don Attilio Canepa 2r\, Genova\, 16133\, Italia
CATEGORIES:Escursioni
ATTACH;FMTTYPE=image/jpeg:https://prolocoapparizione.it/wp-content/uploads/2020/11/13EB28BB-2975-4B45-8A9E-F91B82F57838-scaled.jpeg
ORGANIZER;CN="Pro Loco Apparizione":MAILTO:info@prolocoapparizione.it
END:VEVENT
BEGIN:VEVENT
DTSTART;TZID=UTC:20201108T090000
DTEND;TZID=UTC:20201108T170000
DTSTAMP:20260421T180049
CREATED:20201028T155611Z
LAST-MODIFIED:20201028T155741Z
UID:16404-1604826000-1604854800@prolocoapparizione.it
SUMMARY:2° appuntamento Appatrekking
DESCRIPTION:Pro Loco Apparizione \nAppatrekking \nAlla scoperta dei lati nascosti del Monte Fasce:  \n  \n\n\n\n“E’ il Fasce un vulcano?”Vieni a scoprirlo con noi\,  \ndomenica 08 Novembre 2020\,  \ncon una camminata a Pomà-Liberale\nin compagnia del geologo\, Prof.  Michele Piazza \nL’iniziativa è aperta ad amici\, soci e simpatizzanti.              \nProgramma e breve descrizione dell’escursione \nDurata totale: 5h 30  circa (percorso  Apparizione-Premanico-Pomà-Liberale-Apparizione; \nDislivello totale: 350 m circa; \nLivello: E (Escursionistico); \nIscrizione: si raccomanda l’iscrizione al numero: 391 3262123  o \nvia email: sport@prolocoapparizione.it; \nQuota di partecipazione: offerta libera. \nAppuntamento  \n1)     Ore 09.00 presso la sede della Pro Loco Apparizione in Piazza Don Attilio Canepa 2 r\, Genova. \n2)     Il rientro è previsto nel pomeriggio. \n3)     Percorso: Dopo una chiaccherata con Michele Piazza che ci illustrerà le peculiari caratteristiche geologiche del “nostro monte” partiremo in direzione Monte Fasce. Dopo poche centinaia di metri percorsi lungo l’asfalto di Via Monte Fasce ci innoltreremo nel bosco e percorreremo una suggestiva mulattiera che ci porterà a Premanico. Giunti a Premanico abbandoneremo la mulattiera e proseguiremo lungo un sentiero pianeggiante che ci condurrà a Pomà. Pomà e il  suo prato in prossimità della Chiesa di San Alberto è il luogo prescelto (condizioni meteo permettendo) per consumare il nostro pranzo al sacco.   Dopo pranzo avremo due possibilità per rientrare ad Apparizione: i più arditi potranno proseguire verso il Liberale lungo un aclive sentiero e poi da lì scendere giù sino a raggiungere il nostro punto di ritrovo\, in alternativa da Pomà si può percorrere Via Pomata in discesa fino a giungere a San Desiderio e da li’\, utilizzando la linea Bus 88\, riguadagnare le alture di Apparizione. \nCOSA PORTARE ? \nCuriosità\, voglia di stare in compagnia e godersi la Natura. \nSono necessarie scarpe da trekking o da ginnastica con suola scolpita\, un abbigliamento comodo e una giacca vento. \nConsigliati: cappello\, macchina fotografica o telefono con fotocamera integrata. \nSi ricorda di portare pranzo al sacco\, abbondante acqua\, consigliata frutta fresca e secca. \nGli animali domestici sono ammessi all’escursione\, a condizione che siano provvisti di guinzaglio con museruola. \n\n\nL’evento si svolgerà nel rispetto delle norme sanitarie e di ordine pubblico imposte dalla normativa vigente e\, in caso di maltempo\, sarà rimandato a data da destinarsi.
URL:https://prolocoapparizione.it/event/2-appuntamento-appatrekking/
LOCATION:Sede della Pro Loco Apparizione\, Piazza Don Attilio Canepa 2r\, Genova\, 16133\, Italia
CATEGORIES:Escursioni
ORGANIZER;CN="Pro Loco Apparizione":MAILTO:info@prolocoapparizione.it
END:VEVENT
END:VCALENDAR